BEGIN:VCALENDAR
VERSION:2.0
PRODID:-//Lucinde Hutzenlaub - ECPv6.15.17//NONSGML v1.0//EN
CALSCALE:GREGORIAN
METHOD:PUBLISH
X-WR-CALNAME:Lucinde Hutzenlaub
X-ORIGINAL-URL:https://www.lucin.de
X-WR-CALDESC:Veranstaltungen für Lucinde Hutzenlaub
REFRESH-INTERVAL;VALUE=DURATION:PT1H
X-Robots-Tag:noindex
X-PUBLISHED-TTL:PT1H
BEGIN:VTIMEZONE
TZID:Europe/Berlin
BEGIN:DAYLIGHT
TZOFFSETFROM:+0100
TZOFFSETTO:+0200
TZNAME:CEST
DTSTART:20240331T010000
END:DAYLIGHT
BEGIN:STANDARD
TZOFFSETFROM:+0200
TZOFFSETTO:+0100
TZNAME:CET
DTSTART:20241027T010000
END:STANDARD
BEGIN:DAYLIGHT
TZOFFSETFROM:+0100
TZOFFSETTO:+0200
TZNAME:CEST
DTSTART:20250330T010000
END:DAYLIGHT
BEGIN:STANDARD
TZOFFSETFROM:+0200
TZOFFSETTO:+0100
TZNAME:CET
DTSTART:20251026T010000
END:STANDARD
BEGIN:DAYLIGHT
TZOFFSETFROM:+0100
TZOFFSETTO:+0200
TZNAME:CEST
DTSTART:20260329T010000
END:DAYLIGHT
BEGIN:STANDARD
TZOFFSETFROM:+0200
TZOFFSETTO:+0100
TZNAME:CET
DTSTART:20261025T010000
END:STANDARD
END:VTIMEZONE
BEGIN:VEVENT
DTSTART;VALUE=DATE:20250222
DTEND;VALUE=DATE:20250223
DTSTAMP:20260420T150610
CREATED:20250121T080127Z
LAST-MODIFIED:20250121T080127Z
UID:684-1740182400-1740268799@www.lucin.de
SUMMARY:Buchmesse Fellbach mit Oliver Kern aka Luis Sellano aka
DESCRIPTION:Hier steht eine Beschreibung
URL:https://www.lucin.de/tickets/buchmesse-fellbach-mit-oliver-kern-aka-luis-sellano-aka/
ATTACH;FMTTYPE=image/jpeg:https://www.lucin.de/wp-content/uploads/2025/01/Lucinde-0180-Lay.jpg
END:VEVENT
END:VCALENDAR